View In:
ArcGIS JavaScript
ArcGIS Online Map Viewer
ArcGIS Earth
Service Description: Colour orthophotography taken from an airplane in 2020. Resolution of the orthophoto is 7.5 cm and it shows the extent of entire City of White Rock
Name: opendata/Ortho2020
Description: Colour orthophotography taken from an airplane in 2020. Resolution of the orthophoto is 7.5 cm and it shows the extent of entire City of White Rock
Single Fused Map Cache: false
Extent:
XMin: 511239.9
YMin: 5429249.925
XMax: 516199.95
YMax: 5430990.0
Spatial Reference: 26910
(26910)
LatestVCSWkid(0)
Initial Extent:
XMin: 511239.9
YMin: 5429249.925
XMax: 516199.95
YMax: 5430990.0
Spatial Reference: 26910
(26910)
LatestVCSWkid(0)
Full Extent:
XMin: 511239.9
YMin: 5429249.925
XMax: 516199.95
YMax: 5430990.0
Spatial Reference: 26910
(26910)
LatestVCSWkid(0)
Pixel Size X: 0.07499999999999983
Pixel Size Y: 0.07500000000000803
Band Count: 3
Pixel Type: U8
RasterFunction Infos: {"rasterFunctionInfos": [{
"name": "None",
"description": "",
"help": ""
}]}
Mensuration Capabilities: Basic
Inspection Capabilities:
Has Histograms: true
Has Colormap: false
Has Multi Dimensions : false
Rendering Rule:
Min Scale: 0
Max Scale: 0
Copyright Text:
Service Data Type: esriImageServiceDataTypeRGB
Min Values: 0, 0, 0
Max Values: 255, 255, 255
Mean Values: 84.829678083666, 98.573540592037, 91.209995731708
Standard Deviation Values: 66.120041888869, 54.58996014357, 50.448932269119
Object ID Field:
Fields:
None
Default Mosaic Method: Center
Allowed Mosaic Methods:
SortField:
SortValue: null
Mosaic Operator: First
Default Compression Quality: 75
Default Resampling Method: Bilinear
Max Record Count: null
Max Image Height: 4100
Max Image Width: 15000
Max Download Image Count: null
Max Mosaic Image Count: null
Allow Raster Function: true
Allow Copy: true
Allow Analysis: true
Allow Compute TiePoints: false
Supports Statistics: false
Supports Advanced Queries: false
Use StandardizedQueries: true
Raster Type Infos:
Name: Raster Dataset
Description: Supports all ArcGIS Raster Datasets
Help:
Has Raster Attribute Table: false
Edit Fields Info: null
Ownership Based AccessControl For Rasters: null
Child Resources:
Info
Histograms
Statistics
Key Properties
Legend
Raster Function Infos
Supported Operations:
Export Image
Identify
Measure
Compute Histograms
Compute Statistics Histograms
Get Samples
Compute Class Statistics
Query Boundary
Compute Pixel Location
Compute Angles
Validate
Project