{
 "currentVersion": 11.5,
 "serviceDescription": "Colour orthophotography taken from an airplane in 2020. Resolution of the orthophoto is 7.5 cm and it shows the extent of entire City of White Rock",
 "serviceItemId": "9fa8beaab76b48259cbcc4d49ec2be37",
 "name": "opendata/Ortho2020",
 "description": "Colour orthophotography taken from an airplane in 2020. Resolution of the orthophoto is 7.5 cm and it shows the extent of entire City of White Rock",
 "extent": {
  "xmin": 511239.9,
  "ymin": 5429249.925,
  "xmax": 516199.95,
  "ymax": 5430990,
  "spatialReference": {
   "wkid": 26910,
   "latestWkid": 26910
  }
 },
 "initialExtent": {
  "xmin": 511239.9,
  "ymin": 5429249.925,
  "xmax": 516199.95,
  "ymax": 5430990,
  "spatialReference": {
   "wkid": 26910,
   "latestWkid": 26910
  }
 },
 "fullExtent": {
  "xmin": 511239.9,
  "ymin": 5429249.925,
  "xmax": 516199.95,
  "ymax": 5430990,
  "spatialReference": {
   "wkid": 26910,
   "latestWkid": 26910
  }
 },
 "sortableFields": "",
 "bandCount": 3,
 "pixelType": "U8",
 "minValues": [
  0,
  0,
  0
 ],
 "maxValues": [
  255,
  255,
  255
 ],
 "meanValues": [
  84.829678083666,
  98.573540592037,
  91.209995731708
 ],
 "stdvValues": [
  66.120041888869,
  54.58996014357,
  50.448932269119
 ],
 "serviceProperties": "Center<\/MosaicMethod>First<\/MosaicOperator>true<\/SortAscending><\/LockImageID><\/TileOrderField>0<\/TileOrderBase>0.000000<\/AvgImageSpacingX>0.000000<\/AvgImageSpacingY>0.0<\/ViewPointX>0.0<\/ViewPointY>0.0<\/ViewPointDefShiftX>0.0<\/ViewPointDefShiftY>None<\/CompressionMethod>75<\/CompressionQuality>0.010000<\/CompressionTolerance>Bilinear<\/SamplingMethod><\/ImageServiceProperties><\/ImageServer>",
 "allowedFields": "",
 "hasMultidimensions": false,
 "pixelSizeX": 0.07499999999999983,
 "pixelSizeY": 0.07500000000000803,
 "meanPixelSize": 0.07500000000000392,
 "datasetFormat": "TIFF",
 "uncompressedSize": 4603124802,
 "blockWidth": 66134,
 "blockHeight": 32,
 "compressionType": "LZW",
 "bandNames": [
  "Band_1",
  "Band_2",
  "Band_3"
 ],
 "allowCopy": true,
 "allowAnalysis": true,
 "itemAccess": false,
 "inspectionCapabilities": "",
 "minPixelSize": 0,
 "maxPixelSize": 0,
 "copyrightText": "",
 "serviceDataType": "esriImageServiceDataTypeRGB",
 "serviceSourceType": "esriImageServiceSourceTypeDataset",
 "objectIdField": "",
 "fields": [],
 "capabilities": "Image,Metadata,Mensuration",
 "defaultMosaicMethod": "Center",
 "allowedMosaicMethods": "",
 "sortField": "",
 "sortValue": null,
 "sortAscending": true,
 "mosaicOperator": "First",
 "defaultCompressionQuality": 75,
 "defaultResamplingMethod": "Bilinear",
 "maxImageHeight": 4100,
 "maxImageWidth": 15000,
 "allowRasterFunction": true,
 "rasterFunctionInfos": [
  {
   "name": "None",
   "description": "",
   "help": ""
  }
 ],
 "rasterTypeInfos": [
  {
   "name": "Raster Dataset",
   "description": "Supports all ArcGIS Raster Datasets",
   "help": ""
  }
 ],
 "mensurationCapabilities": "Basic",
 "hasHistograms": true,
 "hasColormap": false,
 "hasRasterAttributeTable": false,
 "minScale": 0,
 "maxScale": 0,
 "exportTilesAllowed": false,
 "supportsStatistics": false,
 "supportsAdvancedQueries": false,
 "editFieldsInfo": null,
 "ownershipBasedAccessControlForRasters": null,
 "allowComputeTiePoints": false,
 "useStandardizedQueries": true,
 "advancedQueryCapabilities": {
  "useStandardizedQueries": true,
  "supportsStatistics": false,
  "supportsOrderBy": false,
  "supportsDistinct": false,
  "supportsPagination": false
 },
 "spatialReference": {
  "wkid": 26910,
  "latestWkid": 26910
 }
}
