View In:
ArcGIS JavaScript
ArcGIS Online Map Viewer
ArcGIS Earth
Service Description: opendata/Ortho2025
Name: opendata/Ortho2025
Description:
Single Fused Map Cache: false
Extent:
XMin: 511234.875
YMin: 5429244.825
XMax: 516205.125
YMax: 5430995.1
Spatial Reference: 3157
(3157)
LatestVCSWkid(0)
Initial Extent:
XMin: 511234.875
YMin: 5429244.825
XMax: 516205.125
YMax: 5430995.1
Spatial Reference: 3157
(3157)
LatestVCSWkid(0)
Full Extent:
XMin: 511234.875
YMin: 5429244.825
XMax: 516205.125
YMax: 5430995.1
Spatial Reference: 3157
(3157)
LatestVCSWkid(0)
Pixel Size X: 0.075
Pixel Size Y: 0.07499999999997606
Band Count: 5
Pixel Type: U8
RasterFunction Infos: {"rasterFunctionInfos": [{
"name": "None",
"description": "",
"help": ""
}]}
Mensuration Capabilities: Basic
Inspection Capabilities:
Has Histograms: true
Has Colormap: false
Has Multi Dimensions : false
Rendering Rule:
Min Scale: 0
Max Scale: 0
Copyright Text:
Service Data Type: esriImageServiceDataTypeGeneric
Min Values: 5, 6, 0, 0, 255
Max Values: 254, 254, 254, 254, 255
Mean Values: 79.40586568822111, 86.75919872683275, 82.94800420581915, 75.99206332376173, 255
Standard Deviation Values: 51.20495453686066, 44.21747838690476, 39.90574625207308, 55.99875679368414, 0
Object ID Field:
Fields:
None
Default Mosaic Method: Center
Allowed Mosaic Methods:
SortField:
SortValue: null
Mosaic Operator: First
Default Compression Quality: 75
Default Resampling Method: Bilinear
Max Record Count: null
Max Image Height: 4100
Max Image Width: 15000
Max Download Image Count: null
Max Mosaic Image Count: null
Allow Raster Function: true
Allow Copy: true
Allow Analysis: true
Allow Compute TiePoints: false
Supports Statistics: false
Supports Advanced Queries: false
Use StandardizedQueries: true
Raster Type Infos:
Name: Raster Dataset
Description: Supports all ArcGIS Raster Datasets
Help:
Has Raster Attribute Table: false
Edit Fields Info: null
Ownership Based AccessControl For Rasters: null
Child Resources:
Info
Histograms
Statistics
Key Properties
Legend
Raster Function Infos
Supported Operations:
Export Image
Identify
Measure
Compute Histograms
Compute Statistics Histograms
Get Samples
Compute Class Statistics
Query Boundary
Compute Pixel Location
Compute Angles
Validate
Project