View In:
ArcGIS JavaScript
ArcGIS Online Map Viewer
ArcGIS Earth
Service Description: opendata/Ortho2023
Name: opendata/Ortho2023
Description:
Single Fused Map Cache: false
Extent:
XMin: 511234.9
YMin: 5429244.875
XMax: 516205.075
YMax: 5430995.075
Spatial Reference: 3157
(3157)
LatestVCSWkid(0)
Initial Extent:
XMin: 511234.9
YMin: 5429244.875
XMax: 516205.075
YMax: 5430995.075
Spatial Reference: 3157
(3157)
LatestVCSWkid(0)
Full Extent:
XMin: 511234.9
YMin: 5429244.875
XMax: 516205.075
YMax: 5430995.075
Spatial Reference: 3157
(3157)
LatestVCSWkid(0)
Pixel Size X: 0.07499999999999983
Pixel Size Y: 0.07500000000000798
Band Count: 4
Pixel Type: U8
RasterFunction Infos: {"rasterFunctionInfos": [{
"name": "None",
"description": "",
"help": ""
}]}
Mensuration Capabilities: Basic
Inspection Capabilities:
Has Histograms: true
Has Colormap: false
Has Multi Dimensions : false
Rendering Rule:
Min Scale: 0
Max Scale: 0
Copyright Text:
Service Data Type: esriImageServiceDataTypeGeneric
Min Values: 2, 2, 2, 0
Max Values: 255, 255, 255, 255
Mean Values: 79.68245128687306, 89.3605267755035, 87.2825245574942, 71.79403021371643
Standard Deviation Values: 49.12203504370234, 44.83194790648917, 41.14903569103419, 57.58683785298562
Object ID Field:
Fields:
None
Default Mosaic Method: Center
Allowed Mosaic Methods:
SortField:
SortValue: null
Mosaic Operator: First
Default Compression Quality: 75
Default Resampling Method: Bilinear
Max Record Count: null
Max Image Height: 4100
Max Image Width: 15000
Max Download Image Count: null
Max Mosaic Image Count: null
Allow Raster Function: true
Allow Copy: true
Allow Analysis: true
Allow Compute TiePoints: false
Supports Statistics: false
Supports Advanced Queries: false
Use StandardizedQueries: true
Raster Type Infos:
Name: Raster Dataset
Description: Supports all ArcGIS Raster Datasets
Help:
Has Raster Attribute Table: false
Edit Fields Info: null
Ownership Based AccessControl For Rasters: null
Child Resources:
Info
Histograms
Statistics
Key Properties
Legend
Raster Function Infos
Supported Operations:
Export Image
Identify
Measure
Compute Histograms
Compute Statistics Histograms
Get Samples
Compute Class Statistics
Query Boundary
Compute Pixel Location
Compute Angles
Validate
Project