View In:
ArcGIS JavaScript
ArcGIS Online Map Viewer
ArcGIS Earth
Service Description: opendata/Ortho2022
Name: opendata/Ortho2022
Description:
Single Fused Map Cache: false
Extent:
XMin: 511234.95
YMin: 5429244.9
XMax: 516205.05
YMax: 5430995.025
Spatial Reference: 3157
(3157)
LatestVCSWkid(0)
Initial Extent:
XMin: 511234.95
YMin: 5429244.9
XMax: 516205.05
YMax: 5430995.025
Spatial Reference: 3157
(3157)
LatestVCSWkid(0)
Full Extent:
XMin: 511234.95
YMin: 5429244.9
XMax: 516205.05
YMax: 5430995.025
Spatial Reference: 3157
(3157)
LatestVCSWkid(0)
Pixel Size X: 0.07499999999999965
Pixel Size Y: 0.075
Band Count: 5
Pixel Type: U8
RasterFunction Infos: {"rasterFunctionInfos": [{
"name": "None",
"description": "",
"help": ""
}]}
Mensuration Capabilities: Basic
Inspection Capabilities:
Has Histograms: true
Has Colormap: false
Has Multi Dimensions : false
Rendering Rule:
Min Scale: 0
Max Scale: 0
Copyright Text:
Service Data Type: esriImageServiceDataTypeGeneric
Min Values: 0, 0, 0, 0, 0
Max Values: 255, 255, 255, 255, 255
Mean Values: 94.30076521062851, 97.70891135461024, 98.80345141533687, 94.39269988559872, 126.51415990847897
Standard Deviation Values: 43.691696561111605, 40.55467352656345, 39.21878317619818, 42.096081011049414, 74.46352668041581
Object ID Field:
Fields:
None
Default Mosaic Method: Center
Allowed Mosaic Methods:
SortField:
SortValue: null
Mosaic Operator: First
Default Compression Quality: 75
Default Resampling Method: Bilinear
Max Record Count: null
Max Image Height: 4100
Max Image Width: 15000
Max Download Image Count: null
Max Mosaic Image Count: null
Allow Raster Function: true
Allow Copy: true
Allow Analysis: true
Allow Compute TiePoints: false
Supports Statistics: false
Supports Advanced Queries: false
Use StandardizedQueries: true
Raster Type Infos:
Name: Raster Dataset
Description: Supports all ArcGIS Raster Datasets
Help:
Has Raster Attribute Table: false
Edit Fields Info: null
Ownership Based AccessControl For Rasters: null
Child Resources:
Info
Histograms
Statistics
Key Properties
Legend
Raster Function Infos
Supported Operations:
Export Image
Identify
Measure
Compute Histograms
Compute Statistics Histograms
Get Samples
Compute Class Statistics
Query Boundary
Compute Pixel Location
Compute Angles
Validate
Project