View In:
ArcGIS JavaScript
ArcGIS Online Map Viewer
ArcGIS Earth
Service Description: Colour orthophotography taken from an airplane in May 2016. Resolution of the orthophoto is 7.5 cm and it shows the extent of entire City of White Rock
Name: opendata/Ortho2016
Description: Colour orthophotography taken from an airplane in May 2016. Resolution of the orthophoto is 7.5 cm and it shows the extent of entire City of White Rock
Single Fused Map Cache: false
Extent:
XMin: 511237.575
YMin: 5429252.4
XMax: 516203.69999999786
YMax: 5430993.225
Spatial Reference: 26910
(26910)
LatestVCSWkid(0)
Initial Extent:
XMin: 511237.575
YMin: 5429252.4
XMax: 516203.69999999786
YMax: 5430993.225
Spatial Reference: 26910
(26910)
LatestVCSWkid(0)
Full Extent:
XMin: 511237.575
YMin: 5429252.4
XMax: 516203.69999999786
YMax: 5430993.225
Spatial Reference: 26910
(26910)
LatestVCSWkid(0)
Pixel Size X: 0.07499999999996747
Pixel Size Y: 0.0749999999999679
Band Count: 3
Pixel Type: U8
RasterFunction Infos: {"rasterFunctionInfos": [{
"name": "None",
"description": "",
"help": ""
}]}
Mensuration Capabilities: Basic
Inspection Capabilities:
Has Histograms: true
Has Colormap: false
Has Multi Dimensions : false
Rendering Rule:
Min Scale: 0
Max Scale: 0
Copyright Text:
Service Data Type: esriImageServiceDataTypeRGB
Min Values: 1, 1, 1
Max Values: 254, 254, 254
Mean Values: 91.015830760601, 97.233199416421, 90.325005318692
Standard Deviation Values: 65.736919894108, 61.4945065396, 58.734036470395
Object ID Field:
Fields:
None
Default Mosaic Method: Center
Allowed Mosaic Methods:
SortField:
SortValue: null
Mosaic Operator: First
Default Compression Quality: 75
Default Resampling Method: Bilinear
Max Record Count: null
Max Image Height: 4100
Max Image Width: 15000
Max Download Image Count: null
Max Mosaic Image Count: null
Allow Raster Function: true
Allow Copy: true
Allow Analysis: true
Allow Compute TiePoints: false
Supports Statistics: false
Supports Advanced Queries: false
Use StandardizedQueries: true
Raster Type Infos:
Name: Raster Dataset
Description: Supports all ArcGIS Raster Datasets
Help:
Has Raster Attribute Table: false
Edit Fields Info: null
Ownership Based AccessControl For Rasters: null
Child Resources:
Info
Histograms
Statistics
Key Properties
Legend
Raster Function Infos
Supported Operations:
Export Image
Identify
Measure
Compute Histograms
Compute Statistics Histograms
Get Samples
Compute Class Statistics
Query Boundary
Compute Pixel Location
Compute Angles
Validate
Project