View In:
ArcGIS JavaScript
ArcGIS Online Map Viewer
ArcGIS Earth
Service Description: Colour orthophotography taken from an airplane in May 2013. Resolution of the orthophoto is 10 cm and it shows the extent of entire City of White Rock
Name: opendata/Ortho2013
Description: Colour orthophotography taken from an airplane in May 2013. Resolution of the orthophoto is 10 cm and it shows the extent of entire City of White Rock
Single Fused Map Cache: false
Extent:
XMin: 511240.0
YMin: 5429249.999990277
XMax: 516200.00000173226
YMax: 5430990.0
Spatial Reference: 26910
(26910)
LatestVCSWkid(0)
Initial Extent:
XMin: 511240.0
YMin: 5429249.999990277
XMax: 516200.00000173226
YMax: 5430990.0
Spatial Reference: 26910
(26910)
LatestVCSWkid(0)
Full Extent:
XMin: 511240.0
YMin: 5429249.999990277
XMax: 516200.00000173226
YMax: 5430990.0
Spatial Reference: 26910
(26910)
LatestVCSWkid(0)
Pixel Size X: 0.1000000000349246
Pixel Size Y: 0.10000000055879354
Band Count: 3
Pixel Type: U8
RasterFunction Infos: {"rasterFunctionInfos": [{
"name": "None",
"description": "",
"help": ""
}]}
Mensuration Capabilities: Basic
Inspection Capabilities:
Has Histograms: true
Has Colormap: false
Has Multi Dimensions : false
Rendering Rule:
Min Scale: 0
Max Scale: 0
Copyright Text:
Service Data Type: esriImageServiceDataTypeRGB
Min Values: 1, 1, 1
Max Values: 255, 255, 255
Mean Values: 76.626225965248, 88.742836421137, 76.671904743769
Standard Deviation Values: 67.279168141434, 58.292465635169, 52.556855053607
Object ID Field:
Fields:
None
Default Mosaic Method: Center
Allowed Mosaic Methods:
SortField:
SortValue: null
Mosaic Operator: First
Default Compression Quality: 75
Default Resampling Method: Bilinear
Max Record Count: null
Max Image Height: 4100
Max Image Width: 15000
Max Download Image Count: null
Max Mosaic Image Count: null
Allow Raster Function: true
Allow Copy: true
Allow Analysis: true
Allow Compute TiePoints: false
Supports Statistics: false
Supports Advanced Queries: false
Use StandardizedQueries: true
Raster Type Infos:
Name: Raster Dataset
Description: Supports all ArcGIS Raster Datasets
Help:
Has Raster Attribute Table: false
Edit Fields Info: null
Ownership Based AccessControl For Rasters: null
Child Resources:
Info
Histograms
Statistics
Key Properties
Legend
Raster Function Infos
Supported Operations:
Export Image
Identify
Measure
Compute Histograms
Compute Statistics Histograms
Get Samples
Compute Class Statistics
Query Boundary
Compute Pixel Location
Compute Angles
Validate
Project