View In:
ArcGIS JavaScript
ArcGIS Online Map Viewer
ArcGIS Earth
Service Description: Colour orthophotography taken from an airplane in 2008. Resolution of the orthophoto is 10 cm and it shows the extent of entire City of White Rock.
Name: opendata/Ortho2008
Description: Colour orthophotography taken from an airplane in 2008. Resolution of the orthophoto is 10 cm and it shows the extent of entire City of White Rock.
Single Fused Map Cache: false
Extent:
XMin: 510992.64749426977
YMin: 5428949.672505734
XMax: 516511.14749426977
YMax: 5431291.072505734
Spatial Reference: 26910
(26910)
LatestVCSWkid(0)
Initial Extent:
XMin: 510992.64749426977
YMin: 5428949.672505734
XMax: 516511.14749426977
YMax: 5431291.072505734
Spatial Reference: 26910
(26910)
LatestVCSWkid(0)
Full Extent:
XMin: 510992.64749426977
YMin: 5428949.672505734
XMax: 516511.14749426977
YMax: 5431291.072505734
Spatial Reference: 26910
(26910)
LatestVCSWkid(0)
Pixel Size X: 0.1
Pixel Size Y: 0.10000000000001591
Band Count: 3
Pixel Type: U8
RasterFunction Infos: {"rasterFunctionInfos": [{
"name": "None",
"description": "",
"help": ""
}]}
Mensuration Capabilities: Basic
Inspection Capabilities:
Has Histograms: true
Has Colormap: false
Has Multi Dimensions : false
Rendering Rule:
Min Scale: 0
Max Scale: 0
Copyright Text:
Service Data Type: esriImageServiceDataTypeRGB
Min Values: 0, 0, 0
Max Values: 255, 255, 255
Mean Values: 125.68680341684, 131.79313845314, 113.9108085107
Standard Deviation Values: 58.21002946132, 49.551424529759, 47.076381657012
Object ID Field:
Fields:
None
Default Mosaic Method: Center
Allowed Mosaic Methods:
SortField:
SortValue: null
Mosaic Operator: First
Default Compression Quality: 75
Default Resampling Method: Bilinear
Max Record Count: null
Max Image Height: 4100
Max Image Width: 15000
Max Download Image Count: null
Max Mosaic Image Count: null
Allow Raster Function: true
Allow Copy: true
Allow Analysis: true
Allow Compute TiePoints: false
Supports Statistics: false
Supports Advanced Queries: false
Use StandardizedQueries: true
Raster Type Infos:
Name: Raster Dataset
Description: Supports all ArcGIS Raster Datasets
Help:
Has Raster Attribute Table: false
Edit Fields Info: null
Ownership Based AccessControl For Rasters: null
Child Resources:
Info
Histograms
Statistics
Key Properties
Legend
Raster Function Infos
Supported Operations:
Export Image
Identify
Measure
Compute Histograms
Compute Statistics Histograms
Get Samples
Compute Class Statistics
Query Boundary
Compute Pixel Location
Compute Angles
Validate
Project