View In:
ArcGIS JavaScript
ArcGIS Online Map Viewer
ArcGIS Earth
Service Description: opendata/2021_Orthophoto
Name: opendata/2021_Orthophoto
Description:
Single Fused Map Cache: false
Extent:
XMin: 511234.975
YMin: 5429244.95
XMax: 516205.0
YMax: 5430995.0
Spatial Reference: 3157
(3157)
LatestVCSWkid(0)
Initial Extent:
XMin: 511234.975
YMin: 5429244.95
XMax: 516205.0
YMax: 5430995.0
Spatial Reference: 3157
(3157)
LatestVCSWkid(0)
Full Extent:
XMin: 511234.975
YMin: 5429244.95
XMax: 516205.0
YMax: 5430995.0
Spatial Reference: 3157
(3157)
LatestVCSWkid(0)
Pixel Size X: 0.07500000000000036
Pixel Size Y: 0.07499999999999202
Band Count: 3
Pixel Type: U8
RasterFunction Infos: {"rasterFunctionInfos": [{
"name": "None",
"description": "",
"help": ""
}]}
Mensuration Capabilities: Basic
Inspection Capabilities:
Has Histograms: true
Has Colormap: false
Has Multi Dimensions : false
Rendering Rule:
Min Scale: 0
Max Scale: 0
Copyright Text:
Service Data Type: esriImageServiceDataTypeRGB
Min Values: 0, 0, 0
Max Values: 255, 255, 255
Mean Values: 103.22029420515874, 107.54676732401593, 106.45029714408989
Standard Deviation Values: 58.12328943501975, 55.4121362066282, 53.906946907272925
Object ID Field:
Fields:
None
Default Mosaic Method: Center
Allowed Mosaic Methods:
SortField:
SortValue: null
Mosaic Operator: First
Default Compression Quality: 75
Default Resampling Method: Bilinear
Max Record Count: null
Max Image Height: 4100
Max Image Width: 15000
Max Download Image Count: null
Max Mosaic Image Count: null
Allow Raster Function: true
Allow Copy: true
Allow Analysis: true
Allow Compute TiePoints: false
Supports Statistics: false
Supports Advanced Queries: false
Use StandardizedQueries: true
Raster Type Infos:
Name: Raster Dataset
Description: Supports all ArcGIS Raster Datasets
Help:
Has Raster Attribute Table: false
Edit Fields Info: null
Ownership Based AccessControl For Rasters: null
Child Resources:
Info
Histograms
Statistics
Key Properties
Legend
Raster Function Infos
Supported Operations:
Export Image
Identify
Measure
Compute Histograms
Compute Statistics Histograms
Get Samples
Compute Class Statistics
Query Boundary
Compute Pixel Location
Compute Angles
Validate
Project